View In:
ArcGIS JavaScript
ArcGIS Online Map Viewer
ArcGIS Earth
ArcMap
View Footprint In:
ArcGIS Online Map Viewer
Service Description: Imagery/DEM_HC_1M_2019
Name: Imagery/DEM_HC_1M_2019
Description:
Single Fused Map Cache: false
Extent:
XMin: 894999.0003334172
YMin: 619996.9999999761
XMax: 1075003.0003334172
YMax: 820000.9999999761
Spatial Reference: 103027
(6445)
VCSWkid(105703)
LatestVCSWkid(6360)
Initial Extent:
XMin: 894999.0003334172
YMin: 619996.9999999761
XMax: 1075003.0003334172
YMax: 820000.9999999761
Spatial Reference: 103027
(6445)
VCSWkid(105703)
LatestVCSWkid(6360)
Full Extent:
XMin: 894999.0003334172
YMin: 619996.9999999761
XMax: 1075003.0003334172
YMax: 820000.9999999761
Spatial Reference: 103027
(6445)
VCSWkid(105703)
LatestVCSWkid(6360)
Pixel Size X: 2.0
Pixel Size Y: 2.0
Band Count: 1
Pixel Type: F32
RasterFunction Infos: {"rasterFunctionInfos": [{
"name": "None",
"description": "",
"help": ""
}]}
Mensuration Capabilities: Basic
Has Histograms: true
Has Colormap: false
Has Multi Dimensions : false
Rendering Rule:
Min Scale: 0
Max Scale: 0
Copyright Text:
Service Data Type: esriImageServiceDataTypeGeneric
Min Values: -56.95431137084961
Max Values: 160.95645141601562
Mean Values: 7.430939042355289
Standard Deviation Values: 10.119157200908047
Object ID Field:
Fields:
None
Default Mosaic Method: Center
Allowed Mosaic Methods:
SortField:
SortValue: null
Mosaic Operator: First
Default Compression Quality: 75
Default Resampling Method: Bilinear
Max Record Count: null
Max Image Height: 4100
Max Image Width: 15000
Max Download Image Count: null
Max Mosaic Image Count: null
Allow Raster Function: true
Allow Copy: true
Allow Analysis: true
Allow Compute TiePoints: false
Supports Statistics: false
Supports Advanced Queries: false
Use StandardizedQueries: true
Raster Type Infos:
Name: Raster Dataset
Description: Supports all ArcGIS Raster Datasets
Help:
Has Raster Attribute Table: false
Edit Fields Info: null
Ownership Based AccessControl For Rasters: null
Child Resources:
Info
Histograms
Statistics
Key Properties
Legend
Raster Function Infos
Supported Operations:
Export Image
Identify
Measure
Compute Histograms
Compute Statistics Histograms
Get Samples
Compute Class Statistics
Query Boundary
Compute Pixel Location
Compute Angles
Validate
Project