{
 "currentVersion": 10.91,
 "serviceDescription": "Imagery/DEM_HC_1M_2019",
 "name": "Imagery/DEM_HC_1M_2019",
 "description": "",
 "extent": {
  "xmin": 894999.0003334172,
  "ymin": 619996.9999999761,
  "xmax": 1075003.0003334172,
  "ymax": 820000.9999999761,
  "spatialReference": {
   "wkid": 103027,
   "latestWkid": 6445,
   "vcsWkid": 105703,
   "latestVcsWkid": 6360
  }
 },
 "initialExtent": {
  "xmin": 894999.0003334172,
  "ymin": 619996.9999999761,
  "xmax": 1075003.0003334172,
  "ymax": 820000.9999999761,
  "spatialReference": {
   "wkid": 103027,
   "latestWkid": 6445,
   "vcsWkid": 105703,
   "latestVcsWkid": 6360
  }
 },
 "fullExtent": {
  "xmin": 894999.0003334172,
  "ymin": 619996.9999999761,
  "xmax": 1075003.0003334172,
  "ymax": 820000.9999999761,
  "spatialReference": {
   "wkid": 103027,
   "latestWkid": 6445,
   "vcsWkid": 105703,
   "latestVcsWkid": 6360
  }
 },
 "heightModelInfo": {
  "heightModel": "gravity_related_height",
  "vertCRS": "NAVD88 height (ftUS)",
  "heightUnit": "us-foot"
 },
 "hasMultidimensions": false,
 "pixelSizeX": 2,
 "pixelSizeY": 2,
 "datasetFormat": "FGDBR",
 "uncompressedSize": 36001520016,
 "blockWidth": 128,
 "blockHeight": 128,
 "compressionType": "LZ77",
 "bandNames": [
  "Band_1"
 ],
 "allowCopy": true,
 "allowAnalysis": true,
 "bandCount": 1,
 "pixelType": "F32",
 "minPixelSize": 0,
 "maxPixelSize": 0,
 "copyrightText": "",
 "serviceDataType": "esriImageServiceDataTypeGeneric",
 "serviceSourceType": "esriImageServiceSourceTypeDataset",
 "minValues": [
  -56.95431137084961
 ],
 "maxValues": [
  160.95645141601562
 ],
 "meanValues": [
  7.430939042355289
 ],
 "stdvValues": [
  10.119157200908047
 ],
 "objectIdField": "",
 "fields": [],
 "capabilities": "Image,Metadata,Mensuration",
 "defaultMosaicMethod": "Center",
 "allowedMosaicMethods": "",
 "sortField": "",
 "sortValue": null,
 "sortAscending": true,
 "mosaicOperator": "First",
 "defaultCompressionQuality": 75,
 "defaultResamplingMethod": "Bilinear",
 "maxImageHeight": 4100,
 "maxImageWidth": 15000,
 "allowRasterFunction": true,
 "rasterFunctionInfos": [
  {
   "name": "None",
   "description": "",
   "help": ""
  }
 ],
 "rasterTypeInfos": [
  {
   "name": "Raster Dataset",
   "description": "Supports all ArcGIS Raster Datasets",
   "help": ""
  }
 ],
 "mensurationCapabilities": "Basic",
 "hasHistograms": true,
 "hasColormap": false,
 "hasRasterAttributeTable": false,
 "minScale": 0,
 "maxScale": 0,
 "exportTilesAllowed": false,
 "supportsStatistics": false,
 "supportsAdvancedQueries": false,
 "editFieldsInfo": null,
 "ownershipBasedAccessControlForRasters": null,
 "allowComputeTiePoints": false,
 "useStandardizedQueries": true,
 "advancedQueryCapabilities": {
  "useStandardizedQueries": true,
  "supportsStatistics": false,
  "supportsOrderBy": false,
  "supportsDistinct": false,
  "supportsPagination": false
 },
 "spatialReference": {
  "wkid": 103027,
  "latestWkid": 6445,
  "vcsWkid": 105703,
  "latestVcsWkid": 6360
 }
}
