View In:
ArcGIS JavaScript
ArcGIS Online Map Viewer
ArcGIS Earth
ArcMap
View Footprint In:
ArcGIS Online Map Viewer
Service Description: Imagery/CAT2_DEPTH
Name: Imagery/CAT2_DEPTH
Description:
Single Fused Map Cache: false
Extent:
XMin: 875938.8128355305
YMin: 671859.749000952
XMax: 1069678.8128355304
YMax: 873204.749000952
Spatial Reference: PROJCS["NAD_1983_StatePlane_Georgia_East_FIPS_1001",GEOGCS["GCS_North_American_1983",DATUM["D_North_American_1983",SPHEROID["GRS_1980",6378137.0,298.257222101]],PRIMEM["Greenwich",0.0],UNIT["Degree",0.0174532925199433]],PROJECTION["Transverse_Mercator"],PARAMETER["False_Easting",656166.6666666665],PARAMETER["False_Northing",0.0],PARAMETER["Central_Meridian",-82.16666666666667],PARAMETER["Scale_Factor",0.9999],PARAMETER["Latitude_Of_Origin",30.0],UNIT["Foot_US",0.3048006096012192]]
Initial Extent:
XMin: 875938.8128355305
YMin: 671859.749000952
XMax: 1069678.8128355304
YMax: 873204.749000952
Spatial Reference: PROJCS["NAD_1983_StatePlane_Georgia_East_FIPS_1001",GEOGCS["GCS_North_American_1983",DATUM["D_North_American_1983",SPHEROID["GRS_1980",6378137.0,298.257222101]],PRIMEM["Greenwich",0.0],UNIT["Degree",0.0174532925199433]],PROJECTION["Transverse_Mercator"],PARAMETER["False_Easting",656166.6666666665],PARAMETER["False_Northing",0.0],PARAMETER["Central_Meridian",-82.16666666666667],PARAMETER["Scale_Factor",0.9999],PARAMETER["Latitude_Of_Origin",30.0],UNIT["Foot_US",0.3048006096012192]]
Full Extent:
XMin: 875938.8128355305
YMin: 671859.749000952
XMax: 1069678.8128355304
YMax: 873204.749000952
Spatial Reference: PROJCS["NAD_1983_StatePlane_Georgia_East_FIPS_1001",GEOGCS["GCS_North_American_1983",DATUM["D_North_American_1983",SPHEROID["GRS_1980",6378137.0,298.257222101]],PRIMEM["Greenwich",0.0],UNIT["Degree",0.0174532925199433]],PROJECTION["Transverse_Mercator"],PARAMETER["False_Easting",656166.6666666665],PARAMETER["False_Northing",0.0],PARAMETER["Central_Meridian",-82.16666666666667],PARAMETER["Scale_Factor",0.9999],PARAMETER["Latitude_Of_Origin",30.0],UNIT["Foot_US",0.3048006096012192]]
Pixel Size X: 14.999999999999991
Pixel Size Y: 15.0
Band Count: 1
Pixel Type: F32
RasterFunction Infos: {"rasterFunctionInfos": [{
"name": "None",
"description": "",
"help": ""
}]}
Mensuration Capabilities: Basic
Has Histograms: true
Has Colormap: false
Has Multi Dimensions : false
Rendering Rule:
Min Scale: 0
Max Scale: 0
Copyright Text:
Service Data Type: esriImageServiceDataTypeGeneric
Min Values: -17.099912643432617
Max Values: 0
Mean Values: -9.22230341457673
Standard Deviation Values: 3.755146644522867
Object ID Field:
Fields:
None
Default Mosaic Method: Center
Allowed Mosaic Methods:
SortField:
SortValue: null
Mosaic Operator: First
Default Compression Quality: 75
Default Resampling Method: Bilinear
Max Record Count: null
Max Image Height: 4100
Max Image Width: 15000
Max Download Image Count: null
Max Mosaic Image Count: null
Allow Raster Function: true
Allow Copy: true
Allow Analysis: true
Allow Compute TiePoints: false
Supports Statistics: false
Supports Advanced Queries: false
Use StandardizedQueries: true
Raster Type Infos:
Name: Raster Dataset
Description: Supports all ArcGIS Raster Datasets
Help:
Has Raster Attribute Table: false
Edit Fields Info: null
Ownership Based AccessControl For Rasters: null
Child Resources:
Info
Histograms
Statistics
Key Properties
Legend
Raster Function Infos
Supported Operations:
Export Image
Identify
Measure
Compute Histograms
Compute Statistics Histograms
Get Samples
Compute Class Statistics
Query Boundary
Compute Pixel Location
Compute Angles
Validate
Project