{
 "currentVersion": 10.91,
 "serviceDescription": "Imagery/CAT2_DEPTH",
 "name": "Imagery/CAT2_DEPTH",
 "description": "",
 "extent": {
  "xmin": 875938.8128355305,
  "ymin": 671859.749000952,
  "xmax": 1069678.8128355304,
  "ymax": 873204.749000952,
  "spatialReference": {
   "wkt": "PROJCS[\"NAD_1983_StatePlane_Georgia_East_FIPS_1001\",GEOGCS[\"GCS_North_American_1983\",DATUM[\"D_North_American_1983\",SPHEROID[\"GRS_1980\",6378137.0,298.257222101]],PRIMEM[\"Greenwich\",0.0],UNIT[\"Degree\",0.0174532925199433]],PROJECTION[\"Transverse_Mercator\"],PARAMETER[\"False_Easting\",656166.6666666665],PARAMETER[\"False_Northing\",0.0],PARAMETER[\"Central_Meridian\",-82.16666666666667],PARAMETER[\"Scale_Factor\",0.9999],PARAMETER[\"Latitude_Of_Origin\",30.0],UNIT[\"Foot_US\",0.3048006096012192]]"
  }
 },
 "initialExtent": {
  "xmin": 875938.8128355305,
  "ymin": 671859.749000952,
  "xmax": 1069678.8128355304,
  "ymax": 873204.749000952,
  "spatialReference": {
   "wkt": "PROJCS[\"NAD_1983_StatePlane_Georgia_East_FIPS_1001\",GEOGCS[\"GCS_North_American_1983\",DATUM[\"D_North_American_1983\",SPHEROID[\"GRS_1980\",6378137.0,298.257222101]],PRIMEM[\"Greenwich\",0.0],UNIT[\"Degree\",0.0174532925199433]],PROJECTION[\"Transverse_Mercator\"],PARAMETER[\"False_Easting\",656166.6666666665],PARAMETER[\"False_Northing\",0.0],PARAMETER[\"Central_Meridian\",-82.16666666666667],PARAMETER[\"Scale_Factor\",0.9999],PARAMETER[\"Latitude_Of_Origin\",30.0],UNIT[\"Foot_US\",0.3048006096012192]]"
  }
 },
 "fullExtent": {
  "xmin": 875938.8128355305,
  "ymin": 671859.749000952,
  "xmax": 1069678.8128355304,
  "ymax": 873204.749000952,
  "spatialReference": {
   "wkt": "PROJCS[\"NAD_1983_StatePlane_Georgia_East_FIPS_1001\",GEOGCS[\"GCS_North_American_1983\",DATUM[\"D_North_American_1983\",SPHEROID[\"GRS_1980\",6378137.0,298.257222101]],PRIMEM[\"Greenwich\",0.0],UNIT[\"Degree\",0.0174532925199433]],PROJECTION[\"Transverse_Mercator\"],PARAMETER[\"False_Easting\",656166.6666666665],PARAMETER[\"False_Northing\",0.0],PARAMETER[\"Central_Meridian\",-82.16666666666667],PARAMETER[\"Scale_Factor\",0.9999],PARAMETER[\"Latitude_Of_Origin\",30.0],UNIT[\"Foot_US\",0.3048006096012192]]"
  }
 },
 "hasMultidimensions": false,
 "pixelSizeX": 14.999999999999991,
 "pixelSizeY": 15,
 "datasetFormat": "SDR",
 "uncompressedSize": 693485872,
 "blockWidth": 128,
 "blockHeight": 128,
 "compressionType": "LZ77",
 "bandNames": [
  "Band_1"
 ],
 "allowCopy": true,
 "allowAnalysis": true,
 "bandCount": 1,
 "pixelType": "F32",
 "minPixelSize": 0,
 "maxPixelSize": 0,
 "copyrightText": "",
 "serviceDataType": "esriImageServiceDataTypeGeneric",
 "serviceSourceType": "esriImageServiceSourceTypeDataset",
 "minValues": [
  -17.099912643432617
 ],
 "maxValues": [
  0
 ],
 "meanValues": [
  -9.22230341457673
 ],
 "stdvValues": [
  3.755146644522867
 ],
 "objectIdField": "",
 "fields": [],
 "capabilities": "Image,Metadata,Mensuration",
 "defaultMosaicMethod": "Center",
 "allowedMosaicMethods": "",
 "sortField": "",
 "sortValue": null,
 "sortAscending": true,
 "mosaicOperator": "First",
 "defaultCompressionQuality": 75,
 "defaultResamplingMethod": "Bilinear",
 "maxImageHeight": 4100,
 "maxImageWidth": 15000,
 "allowRasterFunction": true,
 "rasterFunctionInfos": [
  {
   "name": "None",
   "description": "",
   "help": ""
  }
 ],
 "rasterTypeInfos": [
  {
   "name": "Raster Dataset",
   "description": "Supports all ArcGIS Raster Datasets",
   "help": ""
  }
 ],
 "mensurationCapabilities": "Basic",
 "hasHistograms": true,
 "hasColormap": false,
 "hasRasterAttributeTable": false,
 "minScale": 0,
 "maxScale": 0,
 "exportTilesAllowed": false,
 "supportsStatistics": false,
 "supportsAdvancedQueries": false,
 "editFieldsInfo": null,
 "ownershipBasedAccessControlForRasters": null,
 "allowComputeTiePoints": false,
 "useStandardizedQueries": true,
 "advancedQueryCapabilities": {
  "useStandardizedQueries": true,
  "supportsStatistics": false,
  "supportsOrderBy": false,
  "supportsDistinct": false,
  "supportsPagination": false
 },
 "spatialReference": {
  "wkt": "PROJCS[\"NAD_1983_StatePlane_Georgia_East_FIPS_1001\",GEOGCS[\"GCS_North_American_1983\",DATUM[\"D_North_American_1983\",SPHEROID[\"GRS_1980\",6378137.0,298.257222101]],PRIMEM[\"Greenwich\",0.0],UNIT[\"Degree\",0.0174532925199433]],PROJECTION[\"Transverse_Mercator\"],PARAMETER[\"False_Easting\",656166.6666666665],PARAMETER[\"False_Northing\",0.0],PARAMETER[\"Central_Meridian\",-82.16666666666667],PARAMETER[\"Scale_Factor\",0.9999],PARAMETER[\"Latitude_Of_Origin\",30.0],UNIT[\"Foot_US\",0.3048006096012192]]"
 }
}
